BEGIN:VCALENDAR
VERSION:2.0
PRODID:gruene-kirchheim-heimstetten.de
METHOD:PUBLISH
BEGIN:VTIMEZONE
TZID:Europe/Berlin
X-LIC-LOCATION:Europe/Berlin
BEGIN:DAYLIGHT
TZOFFSETFROM:+0100
TZOFFSETTO:+0200
TZNAME:CEST
DTSTART:19700329T020000
RRULE:FREQ=YEARLY;INTERVAL=1;BYDAY=-1SU;BYMONTH=3
END:DAYLIGHT
BEGIN:STANDARD
TZOFFSETFROM:+0200
TZOFFSETTO:+0100
TZNAME:CET
DTSTART:19701025T030000
RRULE:FREQ=YEARLY;INTERVAL=1;BYDAY=-1SU;BYMONTH=10
END:STANDARD
END:VTIMEZONE
BEGIN:VEVENT
UID:ab619d6e4c6e70c5b2debae3cf916fb0@gruene-kirchheim-heimstetten.de
URL;VALUE=URI:https://gruene-kirchheim-heimstetten.de/termine/ov-kirchhei
 m-vorstandswahl/
LOCATION:Gaststätte Zum Kelten, Am Sportpark, Heimstetten
SUMMARY:OV Kirchheim Vorstandswahl
DESCRIPTION;ALTREP="data:text/html,Vorl%C3%A4ufiger%20Termin%20f%C3%BCr%2
 0die%20geplante%20Vorstandswahl.%20Mehr%20in%20K%C3%BCrze.":Vorläufiger 
 Termin für die geplante Vorstandswahl. Mehr in Kürze.
CLASS:PUBLIC
DTSTART;TZID=Europe/Berlin:20260608T193000
DTEND;TZID=Europe/Berlin:20260608T210000
DTSTAMP:20260422T140611
END:VEVENT
END:VCALENDAR